BEGIN:VCALENDAR
VERSION:2.0
PRODID:SchoolNow
CALSCALE:GREGORIAN
BEGIN:VEVENT
UID:c8cc0638-8c03-11f0-a536-0a58a9feac02
DTSTAMP:20251216T154645Z
SUMMARY:MCSD Family Council Meeting
LOCATION:Vallecito Elementary School\, 50 Nova Albion Way\, San Rafael\, CA
  94903\, USA
URL;VALUE=URI:https://www.millercreeksd.org/mcms/calendar/8591038/mcsd-fami
 ly-council-meeting
DTSTART:20250917T153000Z
DTEND:20250917T163000Z
END:VEVENT
END:VCALENDAR
