BEGIN:VCALENDAR
VERSION:2.0
PRODID:SchoolNow
CALSCALE:GREGORIAN
BEGIN:VEVENT
UID:f8355b9a-8906-11f0-a619-0a58a9feac02
DTSTAMP:20251216T154646Z
SUMMARY:MCMS Band Spring Concert
LOCATION:Gymnasium
URL;VALUE=URI:https://www.millercreeksd.org/mcms/calendar/8576397/mcms-band
 -spring-concert
DTSTART:20260603T020000Z
DTEND:20260603T031500Z
END:VEVENT
END:VCALENDAR
