BEGIN:VCALENDAR
VERSION:2.0
PRODID:SchoolNow
CALSCALE:GREGORIAN
BEGIN:VEVENT
UID:0ec86dcc-86a3-11f0-bae7-0a58a9feac02
DTSTAMP:20251216T154645Z
SUMMARY:Noon Release
URL;VALUE=URI:https://www.millercreeksd.org/mcms/calendar/8565343/noon-rele
 ase
DTSTART;VALUE=DATE:20260610
DTEND;VALUE=DATE:20260611
END:VEVENT
END:VCALENDAR
