BEGIN:VCALENDAR
VERSION:2.0
PRODID:SchoolNow
CALSCALE:GREGORIAN
BEGIN:VEVENT
UID:0ec86bf6-86a3-11f0-97f4-0a58a9feac02
DTSTAMP:20251216T154646Z
SUMMARY:MCMS HSC Meeting- 4/15/26 (Room M3 or Zoom)
LOCATION:https://usc.zoom.us/j/4842909992?omn=93892969775
URL;VALUE=URI:https://www.millercreeksd.org/mcms/calendar/8565341/mcms-hsc-
 meeting-4-15-26-room-m3-or-zoom
DTSTART:20260416T010000Z
DTEND:20260416T020000Z
END:VEVENT
END:VCALENDAR
