BEGIN:VCALENDAR
VERSION:2.0
PRODID:SchoolNow
CALSCALE:GREGORIAN
BEGIN:VEVENT
UID:0ec86b06-86a3-11f0-a96e-0a58a9feac02
DTSTAMP:20251216T154646Z
SUMMARY:MCMS HSC Meeting- 2/11/26 (Room M3 or Zoom)
LOCATION:https://usc.zoom.us/j/4842909992?omn=95228251207
URL;VALUE=URI:https://www.millercreeksd.org/mcms/calendar/8565340/mcms-hsc-
 meeting-2-11-26-room-m3-or-zoom
DTSTART:20260212T020000Z
DTEND:20260212T030000Z
END:VEVENT
END:VCALENDAR
