BEGIN:VCALENDAR
VERSION:2.0
PRODID:SchoolNow
CALSCALE:GREGORIAN
BEGIN:VEVENT
UID:0ec86930-86a3-11f0-a1d9-0a58a9feac02
DTSTAMP:20251216T154645Z
SUMMARY:MCMS Orchestra Spring Concert
LOCATION:Gymnasium
URL;VALUE=URI:https://www.millercreeksd.org/mcms/calendar/8565338/mcms-orch
 estra-spring-concert
DTSTART:20260604T020000Z
DTEND:20260604T031500Z
END:VEVENT
END:VCALENDAR
