BEGIN:VCALENDAR
VERSION:2.0
PRODID:SchoolNow
CALSCALE:GREGORIAN
BEGIN:VEVENT
UID:0ec86836-86a3-11f0-8e53-0a58a9feac02
DTSTAMP:20251216T154645Z
SUMMARY:MCMS Choir Spring Concert
LOCATION:Gymnasium
URL;VALUE=URI:https://www.millercreeksd.org/mcms/calendar/8565337/mcms-choi
 r-spring-concert
DTSTART:20260529T020000Z
DTEND:20260529T031500Z
END:VEVENT
END:VCALENDAR
