BEGIN:VCALENDAR
VERSION:2.0
PRODID:SchoolNow
CALSCALE:GREGORIAN
BEGIN:VEVENT
UID:0ec86746-86a3-11f0-88cd-0a58a9feac02
DTSTAMP:20251216T154645Z
SUMMARY:Forum Festival: MCMS Band/Choir/Orchestra 6
LOCATION:Ohlone College\, Fremont
URL;VALUE=URI:https://www.millercreeksd.org/mcms/calendar/8565336/forum-fes
 tival-mcms-band-choir-orchestra-6
DTSTART;VALUE=DATE:20260508
DTEND;VALUE=DATE:20260509
END:VEVENT
END:VCALENDAR
