BEGIN:VCALENDAR
VERSION:2.0
PRODID:SchoolNow
CALSCALE:GREGORIAN
BEGIN:VEVENT
UID:0ec8664c-86a3-11f0-8fb7-0a58a9feac02
DTSTAMP:20251216T154645Z
SUMMARY:MCMS Band Winter Concert
LOCATION:Gymnasium
URL;VALUE=URI:https://www.millercreeksd.org/mcms/calendar/8565335/mcms-band
 -winter-concert
DTSTART:20251219T030000Z
DTEND:20251219T041500Z
END:VEVENT
END:VCALENDAR
