BEGIN:VCALENDAR
VERSION:2.0
PRODID:SchoolNow
CALSCALE:GREGORIAN
BEGIN:VEVENT
UID:0ec864c6-86a3-11f0-8052-0a58a9feac02
DTSTAMP:20251216T154645Z
SUMMARY:MCMS Orchestra Winter Concert
LOCATION:Gymnasium
URL;VALUE=URI:https://www.millercreeksd.org/mcms/calendar/8565334/mcms-orch
 estra-winter-concert
DTSTART:20251218T030000Z
DTEND:20251218T041500Z
END:VEVENT
END:VCALENDAR
