BEGIN:VCALENDAR
VERSION:2.0
PRODID:SchoolNow
CALSCALE:GREGORIAN
BEGIN:VEVENT
UID:0ec863cc-86a3-11f0-acb0-0a58a9feac02
DTSTAMP:20251216T154645Z
SUMMARY:MCMS Choir Winter Concert
LOCATION:Gymnasium
URL;VALUE=URI:https://www.millercreeksd.org/mcms/calendar/8565333/mcms-choi
 r-winter-concert
DTSTART:20251211T030000Z
DTEND:20251211T041500Z
END:VEVENT
END:VCALENDAR
