BEGIN:VCALENDAR
VERSION:2.0
PRODID:SchoolNow
CALSCALE:GREGORIAN
BEGIN:VEVENT
UID:0ec86002-86a3-11f0-a290-0a58a9feac02
DTSTAMP:20251216T154646Z
SUMMARY:MCMS Orchestra School Board Performance
URL;VALUE=URI:https://www.millercreeksd.org/mcms/calendar/8565330/mcms-orch
 estra-school-board-performance
DTSTART:20251119T020000Z
DTEND:20251119T023000Z
END:VEVENT
END:VCALENDAR
