BEGIN:VCALENDAR
VERSION:2.0
PRODID:SchoolNow
CALSCALE:GREGORIAN
BEGIN:VEVENT
UID:0ec83f5a-86a3-11f0-ad0c-0a58a9feac02
DTSTAMP:20251216T154646Z
SUMMARY:MCMS Choir School Board Performance
URL;VALUE=URI:https://www.millercreeksd.org/mcms/calendar/8565329/mcms-choi
 r-school-board-performance
DTSTART:20251015T010000Z
DTEND:20251015T013000Z
END:VEVENT
END:VCALENDAR
