BEGIN:VCALENDAR
VERSION:2.0
PRODID:SchoolNow
CALSCALE:GREGORIAN
BEGIN:VEVENT
UID:1f774022-8571-11f0-ad51-0e6174af33af
DTSTAMP:20251216T154645Z
SUMMARY:Club Fair @ Lunch
URL;VALUE=URI:https://www.millercreeksd.org/mcms/calendar/8561101/club-fair
 -lunch
DTSTART;VALUE=DATE:20250905
DTEND;VALUE=DATE:20250906
END:VEVENT
END:VCALENDAR
