BEGIN:VCALENDAR
VERSION:2.0
PRODID:SchoolNow
CALSCALE:GREGORIAN
BEGIN:VEVENT
UID:248a50be-853e-11f0-85c4-0a58a9feac02
DTSTAMP:20251216T154646Z
SUMMARY:MCMS 8th Grade Social
LOCATION:MCMS Gymnasium
URL;VALUE=URI:https://www.millercreeksd.org/mcms/calendar/8560365/mcms-8th-
 grade-social
DTSTART:20250920T010000Z
DTEND:20250920T023000Z
END:VEVENT
END:VCALENDAR
