BEGIN:VCALENDAR
VERSION:2.0
PRODID:SchoolNow
CALSCALE:GREGORIAN
BEGIN:VEVENT
UID:3cdce364-83a6-11f0-b4d9-0a58a9feac02
DTSTAMP:20251216T154645Z
SUMMARY:Superintendent/Principal Coffee @ MCMS
URL;VALUE=URI:https://www.millercreeksd.org/mcms/calendar/8552180/superinte
 ndent-principal-coffee-mcms
DTSTART:20250829T150000Z
DTEND:20250829T154500Z
END:VEVENT
END:VCALENDAR
