BEGIN:VCALENDAR
VERSION:2.0
PRODID:SchoolNow
CALSCALE:GREGORIAN
BEGIN:VEVENT
UID:d81eb7f4-777f-11f0-ba69-02d6dad26271
DTSTAMP:20251216T154645Z
SUMMARY:MCMS Open House
URL;VALUE=URI:https://www.millercreeksd.org/mcms/calendar/8494158/mcms-open
 -house
DTSTART:20260521T010000Z
DTEND:20260521T020000Z
END:VEVENT
END:VCALENDAR
