BEGIN:VCALENDAR
VERSION:2.0
PRODID:SchoolNow
CALSCALE:GREGORIAN
BEGIN:VEVENT
UID:d81eb59c-777f-11f0-b98a-02d6dad26271
DTSTAMP:20251216T154645Z
SUMMARY:Trimester 3: End of Grading Period
URL;VALUE=URI:https://www.millercreeksd.org/mcms/calendar/8494156/trimester
 -3-end-of-grading-period
DTSTART;VALUE=DATE:20260605
DTEND;VALUE=DATE:20260606
END:VEVENT
END:VCALENDAR
