BEGIN:VCALENDAR
VERSION:2.0
PRODID:SchoolNow
CALSCALE:GREGORIAN
BEGIN:VEVENT
UID:d81eb4b6-777f-11f0-b5bc-02d6dad26271
DTSTAMP:20251216T154645Z
SUMMARY:Trimester 2: End of Grading Period
URL;VALUE=URI:https://www.millercreeksd.org/mcms/calendar/8494155/trimester
 -2-end-of-grading-period
DTSTART;VALUE=DATE:20260306
DTEND;VALUE=DATE:20260307
END:VEVENT
END:VCALENDAR
