BEGIN:VCALENDAR
VERSION:2.0
PRODID:SchoolNow
CALSCALE:GREGORIAN
BEGIN:VEVENT
UID:d81eb3c6-777f-11f0-8623-02d6dad26271
DTSTAMP:20251216T154646Z
SUMMARY:Trimester 1: End of Grading Period
URL;VALUE=URI:https://www.millercreeksd.org/mcms/calendar/8494154/trimester
 -1-end-of-grading-period
DTSTART;VALUE=DATE:20251107
DTEND;VALUE=DATE:20251108
END:VEVENT
END:VCALENDAR
