BEGIN:VCALENDAR
VERSION:2.0
PRODID:SchoolNow
CALSCALE:GREGORIAN
BEGIN:VEVENT
UID:d81eb2d6-777f-11f0-943a-02d6dad26271
DTSTAMP:20251216T154645Z
SUMMARY:Last Day of School - 12 PM Release
URL;VALUE=URI:https://www.millercreeksd.org/mcms/calendar/8494153/last-day-
 of-school-12-pm-release
DTSTART;VALUE=DATE:20260611
DTEND;VALUE=DATE:20260612
END:VEVENT
END:VCALENDAR
