BEGIN:VCALENDAR
VERSION:2.0
PRODID:SchoolNow
CALSCALE:GREGORIAN
BEGIN:VEVENT
UID:d81eb1dc-777f-11f0-8414-02d6dad26271
DTSTAMP:20251216T154646Z
SUMMARY:Memorial Day Holiday - No School
URL;VALUE=URI:https://www.millercreeksd.org/mcms/calendar/8494152/memorial-
 day-holiday-no-school
DTSTART;VALUE=DATE:20260525
DTEND;VALUE=DATE:20260526
END:VEVENT
END:VCALENDAR
