BEGIN:VCALENDAR
VERSION:2.0
PRODID:SchoolNow
CALSCALE:GREGORIAN
BEGIN:VEVENT
UID:d81eb0ec-777f-11f0-850c-02d6dad26271
DTSTAMP:20251216T154645Z
SUMMARY:Progress Report 3: Grading Period Ends
URL;VALUE=URI:https://www.millercreeksd.org/mcms/calendar/8494151/progress-
 report-3-grading-period-ends
DTSTART;VALUE=DATE:20260501
DTEND;VALUE=DATE:20260502
END:VEVENT
END:VCALENDAR
