BEGIN:VCALENDAR
VERSION:2.0
PRODID:SchoolNow
CALSCALE:GREGORIAN
BEGIN:VEVENT
UID:d81eafe8-777f-11f0-bc14-02d6dad26271
DTSTAMP:20251216T154645Z
SUMMARY:Winter Recess - No School
URL;VALUE=URI:https://www.millercreeksd.org/mcms/calendar/8494150/winter-re
 cess-no-school
DTSTART;VALUE=DATE:20251222
DTEND;VALUE=DATE:20260103
END:VEVENT
END:VCALENDAR
