BEGIN:VCALENDAR
VERSION:2.0
PRODID:SchoolNow
CALSCALE:GREGORIAN
BEGIN:VEVENT
UID:d81eaec6-777f-11f0-8a6c-02d6dad26271
DTSTAMP:20251216T154645Z
SUMMARY:Thanksgiving Recess - No School
URL;VALUE=URI:https://www.millercreeksd.org/mcms/calendar/8494149/thanksgiv
 ing-recess-no-school
DTSTART;VALUE=DATE:20251124
DTEND;VALUE=DATE:20251129
END:VEVENT
END:VCALENDAR
