BEGIN:VCALENDAR
VERSION:2.0
PRODID:SchoolNow
CALSCALE:GREGORIAN
BEGIN:VEVENT
UID:d81ead86-777f-11f0-8142-02d6dad26271
DTSTAMP:20251216T154646Z
SUMMARY:Mid-Winter Recess - No School
URL;VALUE=URI:https://www.millercreeksd.org/mcms/calendar/8494148/mid-winte
 r-recess-no-school
DTSTART;VALUE=DATE:20260216
DTEND;VALUE=DATE:20260221
END:VEVENT
END:VCALENDAR
