BEGIN:VCALENDAR
VERSION:2.0
PRODID:SchoolNow
CALSCALE:GREGORIAN
BEGIN:VEVENT
UID:d81eac0a-777f-11f0-810a-02d6dad26271
DTSTAMP:20251216T154646Z
SUMMARY:Spring Recess - No School
URL;VALUE=URI:https://www.millercreeksd.org/mcms/calendar/8494147/spring-re
 cess-no-school
DTSTART;VALUE=DATE:20260406
DTEND;VALUE=DATE:20260411
END:VEVENT
END:VCALENDAR
