BEGIN:VCALENDAR
VERSION:2.0
PRODID:SchoolNow
CALSCALE:GREGORIAN
BEGIN:VEVENT
UID:d81ea7e6-777f-11f0-af67-02d6dad26271
DTSTAMP:20251216T154646Z
SUMMARY:Martin Luther King\, Jr. Holiday - No School
URL;VALUE=URI:https://www.millercreeksd.org/mcms/calendar/8494146/martin-lu
 ther-king-jr-holiday-no-school
DTSTART;VALUE=DATE:20260119
DTEND;VALUE=DATE:20260120
END:VEVENT
END:VCALENDAR
