BEGIN:VCALENDAR
VERSION:2.0
PRODID:SchoolNow
CALSCALE:GREGORIAN
BEGIN:VEVENT
UID:d7f24548-777f-11f0-9088-02d6dad26271
DTSTAMP:20251216T154646Z
SUMMARY:Progress Report 2: Grading Period Ends
URL;VALUE=URI:https://www.millercreeksd.org/mcms/calendar/8494145/progress-
 report-2-grading-period-ends
DTSTART;VALUE=DATE:20260116
DTEND;VALUE=DATE:20260117
END:VEVENT
END:VCALENDAR
