BEGIN:VCALENDAR
VERSION:2.0
PRODID:SchoolNow
CALSCALE:GREGORIAN
BEGIN:VEVENT
UID:d7f24462-777f-11f0-acda-02d6dad26271
DTSTAMP:20251216T154646Z
SUMMARY:Staff Professional Development Day - Non-Student Day
URL;VALUE=URI:https://www.millercreeksd.org/mcms/calendar/8494144/staff-pro
 fessional-development-day-non-student-day
DTSTART;VALUE=DATE:20260313
DTEND;VALUE=DATE:20260314
END:VEVENT
END:VCALENDAR
