BEGIN:VCALENDAR
VERSION:2.0
PRODID:SchoolNow
CALSCALE:GREGORIAN
BEGIN:VEVENT
UID:d7f24372-777f-11f0-ad45-02d6dad26271
DTSTAMP:20251216T154645Z
SUMMARY:Staff Professional Development Day - Non-Student Day
URL;VALUE=URI:https://www.millercreeksd.org/mcms/calendar/8494143/staff-pro
 fessional-development-day-non-student-day
DTSTART;VALUE=DATE:20251013
DTEND;VALUE=DATE:20251014
END:VEVENT
END:VCALENDAR
