BEGIN:VCALENDAR
VERSION:2.0
PRODID:SchoolNow
CALSCALE:GREGORIAN
BEGIN:VEVENT
UID:d7f24282-777f-11f0-ba85-02d6dad26271
DTSTAMP:20251216T154645Z
SUMMARY:MCMS Fall Conferences - Non-Student Day
URL;VALUE=URI:https://www.millercreeksd.org/mcms/calendar/8494142/mcms-fall
 -conferences-non-student-day
DTSTART;VALUE=DATE:20251121
DTEND;VALUE=DATE:20251122
END:VEVENT
END:VCALENDAR
