BEGIN:VCALENDAR
VERSION:2.0
PRODID:SchoolNow
CALSCALE:GREGORIAN
BEGIN:VEVENT
UID:d7f24192-777f-11f0-a10b-02d6dad26271
DTSTAMP:20251216T154645Z
SUMMARY:Minimum Day Schedule: 12 PM Release
URL;VALUE=URI:https://www.millercreeksd.org/mcms/calendar/8494141/minimum-d
 ay-schedule-12-pm-release
DTSTART;VALUE=DATE:20251119
DTEND;VALUE=DATE:20251121
END:VEVENT
END:VCALENDAR
