BEGIN:VCALENDAR
VERSION:2.0
PRODID:SchoolNow
CALSCALE:GREGORIAN
BEGIN:VEVENT
UID:d7f240a2-777f-11f0-b14f-02d6dad26271
DTSTAMP:20251216T154646Z
SUMMARY:Fall Conferences in MCMS Gym
URL;VALUE=URI:https://www.millercreeksd.org/mcms/calendar/8494140/fall-conf
 erences-in-mcms-gym
DTSTART:20251120T210000Z
DTEND:20251120T230000Z
END:VEVENT
END:VCALENDAR
