BEGIN:VCALENDAR
VERSION:2.0
PRODID:SchoolNow
CALSCALE:GREGORIAN
BEGIN:VEVENT
UID:d7f23fb2-777f-11f0-aac6-02d6dad26271
DTSTAMP:20251216T154645Z
SUMMARY:Fall Conferences in MCMS Gym
URL;VALUE=URI:https://www.millercreeksd.org/mcms/calendar/8494139/fall-conf
 erences-in-mcms-gym
DTSTART:20251119T210000Z
DTEND:20251119T230000Z
END:VEVENT
END:VCALENDAR
