BEGIN:VCALENDAR
VERSION:2.0
PRODID:SchoolNow
CALSCALE:GREGORIAN
BEGIN:VEVENT
UID:d7f23ec2-777f-11f0-9635-02d6dad26271
DTSTAMP:20251216T154646Z
SUMMARY:Veteran's Day Holiday - No School
URL;VALUE=URI:https://www.millercreeksd.org/mcms/calendar/8494138/veterans-
 day-holiday-no-school
DTSTART;VALUE=DATE:20251111
DTEND;VALUE=DATE:20251112
END:VEVENT
END:VCALENDAR
