BEGIN:VCALENDAR
VERSION:2.0
PRODID:SchoolNow
CALSCALE:GREGORIAN
BEGIN:VEVENT
UID:d7f23dd2-777f-11f0-a5cc-02d6dad26271
DTSTAMP:20251216T154645Z
SUMMARY:Indigenous Peoples Day
URL;VALUE=URI:https://www.millercreeksd.org/mcms/calendar/8494137/indigenou
 s-peoples-day
DTSTART;VALUE=DATE:20251013
DTEND;VALUE=DATE:20251014
END:VEVENT
END:VCALENDAR
