BEGIN:VCALENDAR
VERSION:2.0
PRODID:SchoolNow
CALSCALE:GREGORIAN
BEGIN:VEVENT
UID:d7f23ce2-777f-11f0-832a-02d6dad26271
DTSTAMP:20251216T154645Z
SUMMARY:Yom Kippur
URL;VALUE=URI:https://www.millercreeksd.org/mcms/calendar/8494136/yom-kippu
 r
DTSTART;VALUE=DATE:20251001
DTEND;VALUE=DATE:20251003
END:VEVENT
END:VCALENDAR
