BEGIN:VCALENDAR
VERSION:2.0
PRODID:SchoolNow
CALSCALE:GREGORIAN
BEGIN:VEVENT
UID:d7f23aee-777f-11f0-a848-02d6dad26271
DTSTAMP:20251216T154645Z
SUMMARY:Labor Day Holiday - No School
URL;VALUE=URI:https://www.millercreeksd.org/mcms/calendar/8494134/labor-day
 -holiday-no-school
DTSTART;VALUE=DATE:20250901
DTEND;VALUE=DATE:20250902
END:VEVENT
END:VCALENDAR
