BEGIN:VCALENDAR
VERSION:2.0
PRODID:SchoolNow
CALSCALE:GREGORIAN
BEGIN:VEVENT
UID:d7f239e0-777f-11f0-9904-02d6dad26271
DTSTAMP:20251216T154645Z
SUMMARY:Begin Early Release Wednesdays (1:20 PM)
URL;VALUE=URI:https://www.millercreeksd.org/mcms/calendar/8494133/begin-ear
 ly-release-wednesdays-1-20-pm
DTSTART;VALUE=DATE:20250827
DTEND;VALUE=DATE:20250828
END:VEVENT
END:VCALENDAR
