BEGIN:VCALENDAR
VERSION:2.0
PRODID:SchoolNow
CALSCALE:GREGORIAN
BEGIN:VEVENT
UID:d7f238be-777f-11f0-9e37-02d6dad26271
DTSTAMP:20251216T154645Z
SUMMARY:Begin Regular Release Days (2:56 PM)
URL;VALUE=URI:https://www.millercreeksd.org/mcms/calendar/8494132/begin-reg
 ular-release-days-2-56-pm
DTSTART;VALUE=DATE:20250825
DTEND;VALUE=DATE:20250826
END:VEVENT
END:VCALENDAR
