BEGIN:VCALENDAR
VERSION:2.0
PRODID:SchoolNow
CALSCALE:GREGORIAN
BEGIN:VEVENT
UID:d7f2371a-777f-11f0-a205-02d6dad26271
DTSTAMP:20251216T154646Z
SUMMARY:First Day of School - 1:20 PM Release
URL;VALUE=URI:https://www.millercreeksd.org/mcms/calendar/8494131/first-day
 -of-school-1-20-pm-release
DTSTART;VALUE=DATE:20250820
DTEND;VALUE=DATE:20250821
END:VEVENT
END:VCALENDAR
