BEGIN:VCALENDAR
VERSION:2.0
PRODID:SchoolNow
CALSCALE:GREGORIAN
BEGIN:VEVENT
UID:d7f216c2-777f-11f0-a8a2-02d6dad26271
DTSTAMP:20251216T154645Z
SUMMARY:Extended Homeroom Schedule: 1:20 PM Release
URL;VALUE=URI:https://www.millercreeksd.org/mcms/calendar/8494130/extended-
 homeroom-schedule-1-20-pm-release
DTSTART;VALUE=DATE:20250821
DTEND;VALUE=DATE:20250823
END:VEVENT
END:VCALENDAR
