BEGIN:VCALENDAR
VERSION:2.0
PRODID:SchoolNow
CALSCALE:GREGORIAN
BEGIN:VEVENT
UID:f53fca88-74e8-11f0-bf50-0e9b82b2acbb
DTSTAMP:20251216T154645Z
SUMMARY:Scholastic Book Fair Week
URL;VALUE=URI:https://www.millercreeksd.org/mcms/calendar/8485165/scholasti
 c-book-fair-week
DTSTART;VALUE=DATE:20260302
DTEND;VALUE=DATE:20260307
END:VEVENT
END:VCALENDAR
