BEGIN:VCALENDAR
VERSION:2.0
PRODID:SchoolNow
CALSCALE:GREGORIAN
BEGIN:VEVENT
UID:f9c62300-74b5-11f0-9674-0a58a9feac02
DTSTAMP:20251216T154646Z
SUMMARY:B Week - 6th Exploratory
URL;VALUE=URI:https://www.millercreeksd.org/mcms/calendar/8484718/b-week-6t
 h-exploratory
DTSTART;VALUE=DATE:20260525
DTEND;VALUE=DATE:20260530
END:VEVENT
END:VCALENDAR
