BEGIN:VCALENDAR
VERSION:2.0
PRODID:SchoolNow
CALSCALE:GREGORIAN
BEGIN:VEVENT
UID:f9c61dce-74b5-11f0-8522-0a58a9feac02
DTSTAMP:20251216T154646Z
SUMMARY:A Week - 6th Exploratory
URL;VALUE=URI:https://www.millercreeksd.org/mcms/calendar/8484712/a-week-6t
 h-exploratory
DTSTART;VALUE=DATE:20260413
DTEND;VALUE=DATE:20260418
END:VEVENT
END:VCALENDAR
