BEGIN:VCALENDAR
VERSION:2.0
PRODID:SchoolNow
CALSCALE:GREGORIAN
BEGIN:VEVENT
UID:f9c617c0-74b5-11f0-8f90-0a58a9feac02
DTSTAMP:20251216T154646Z
SUMMARY:A Week - 6th Exploratory
URL;VALUE=URI:https://www.millercreeksd.org/mcms/calendar/8484705/a-week-6t
 h-exploratory
DTSTART;VALUE=DATE:20260209
DTEND;VALUE=DATE:20260214
END:VEVENT
END:VCALENDAR
