BEGIN:VCALENDAR
VERSION:2.0
PRODID:SchoolNow
CALSCALE:GREGORIAN
BEGIN:VEVENT
UID:f9c61360-74b5-11f0-b601-0a58a9feac02
DTSTAMP:20251216T154645Z
SUMMARY:A Week - 6th Exploratory
URL;VALUE=URI:https://www.millercreeksd.org/mcms/calendar/8484700/a-week-6t
 h-exploratory
DTSTART;VALUE=DATE:20260105
DTEND;VALUE=DATE:20260110
END:VEVENT
END:VCALENDAR
