BEGIN:VCALENDAR
VERSION:2.0
PRODID:SchoolNow
CALSCALE:GREGORIAN
BEGIN:VEVENT
UID:f9c60dfc-74b5-11f0-b29f-0a58a9feac02
DTSTAMP:20251216T154645Z
SUMMARY:B Week - 6th Exploratory
URL;VALUE=URI:https://www.millercreeksd.org/mcms/calendar/8484694/b-week-6t
 h-exploratory
DTSTART;VALUE=DATE:20251103
DTEND;VALUE=DATE:20251108
END:VEVENT
END:VCALENDAR
