BEGIN:VCALENDAR
VERSION:2.0
PRODID:SchoolNow
CALSCALE:GREGORIAN
BEGIN:VEVENT
UID:f9c604ec-74b5-11f0-ab97-0a58a9feac02
DTSTAMP:20251216T154646Z
SUMMARY:B Week - 6th Exploratory
URL;VALUE=URI:https://www.millercreeksd.org/mcms/calendar/8484685/b-week-6t
 h-exploratory
DTSTART;VALUE=DATE:20250901
DTEND;VALUE=DATE:20250906
END:VEVENT
END:VCALENDAR
